BEGIN:VCALENDAR
VERSION:2.0
PRODID:-//CADimensions - ECPv6.15.12.2//NONSGML v1.0//EN
CALSCALE:GREGORIAN
METHOD:PUBLISH
X-WR-CALNAME:CADimensions
X-ORIGINAL-URL:https://www.cadimensions.com
X-WR-CALDESC:Events for CADimensions
REFRESH-INTERVAL;VALUE=DURATION:PT1H
X-Robots-Tag:noindex
X-PUBLISHED-TTL:PT1H
BEGIN:VTIMEZONE
TZID:America/New_York
BEGIN:DAYLIGHT
TZOFFSETFROM:-0500
TZOFFSETTO:-0400
TZNAME:EDT
DTSTART:20250309T070000
END:DAYLIGHT
BEGIN:STANDARD
TZOFFSETFROM:-0400
TZOFFSETTO:-0500
TZNAME:EST
DTSTART:20251102T060000
END:STANDARD
BEGIN:DAYLIGHT
TZOFFSETFROM:-0500
TZOFFSETTO:-0400
TZNAME:EDT
DTSTART:20260308T070000
END:DAYLIGHT
BEGIN:STANDARD
TZOFFSETFROM:-0400
TZOFFSETTO:-0500
TZNAME:EST
DTSTART:20261101T060000
END:STANDARD
BEGIN:DAYLIGHT
TZOFFSETFROM:-0500
TZOFFSETTO:-0400
TZNAME:EDT
DTSTART:20270314T070000
END:DAYLIGHT
BEGIN:STANDARD
TZOFFSETFROM:-0400
TZOFFSETTO:-0500
TZNAME:EST
DTSTART:20271107T060000
END:STANDARD
END:VTIMEZONE
BEGIN:VEVENT
DTSTART;TZID=America/New_York:20260506T083000
DTEND;TZID=America/New_York:20260507T163000
DTSTAMP:20260420T040051
CREATED:20260212T210346Z
LAST-MODIFIED:20260331T160708Z
UID:68109-1778056200-1778171400@www.cadimensions.com
SUMMARY:Administering SOLIDWORKS PDM Standard Online - May
DESCRIPTION:Length: 2 daysDates: 5/6 - 5/7Cost: $1\,295.00Recommended Experience Level: Experience with the Windows operating system.Course Description:Administering SOLIDWORKS PDM Standard teaches the fundamental skills and concepts central to the configuration and successful use of SOLIDWORKS PDM Standard through lecture and individual hands on exercises. The intended audience for this course is anyone who will setup and/or administer SOLIDWORKS PDM Standard. This course is designed for simple implementations and supporting roles. \n\n\n\nThis course covers topics in the CPPA SOLIDWORKS certification.
URL:https://www.cadimensions.com/events/administering-solidworks-pdm-standard-online-may-2026/
LOCATION:Online\, United States
CATEGORIES:Product Data Management
ATTACH;FMTTYPE=image/jpeg:https://www.cadimensions.com/wp-content/uploads/2018/10/Administering-SOLIDWORKS-PDM-Professional.jpg
END:VEVENT
END:VCALENDAR