BEGIN:VCALENDAR
VERSION:2.0
PRODID:-//CADimensions - ECPv6.15.12.2//NONSGML v1.0//EN
CALSCALE:GREGORIAN
METHOD:PUBLISH
X-WR-CALNAME:CADimensions
X-ORIGINAL-URL:https://www.cadimensions.com
X-WR-CALDESC:Events for CADimensions
REFRESH-INTERVAL;VALUE=DURATION:PT1H
X-Robots-Tag:noindex
X-PUBLISHED-TTL:PT1H
BEGIN:VTIMEZONE
TZID:America/New_York
BEGIN:DAYLIGHT
TZOFFSETFROM:-0500
TZOFFSETTO:-0400
TZNAME:EDT
DTSTART:20250309T070000
END:DAYLIGHT
BEGIN:STANDARD
TZOFFSETFROM:-0400
TZOFFSETTO:-0500
TZNAME:EST
DTSTART:20251102T060000
END:STANDARD
BEGIN:DAYLIGHT
TZOFFSETFROM:-0500
TZOFFSETTO:-0400
TZNAME:EDT
DTSTART:20260308T070000
END:DAYLIGHT
BEGIN:STANDARD
TZOFFSETFROM:-0400
TZOFFSETTO:-0500
TZNAME:EST
DTSTART:20261101T060000
END:STANDARD
BEGIN:DAYLIGHT
TZOFFSETFROM:-0500
TZOFFSETTO:-0400
TZNAME:EDT
DTSTART:20270314T070000
END:DAYLIGHT
BEGIN:STANDARD
TZOFFSETFROM:-0400
TZOFFSETTO:-0500
TZNAME:EST
DTSTART:20271107T060000
END:STANDARD
END:VTIMEZONE
BEGIN:VEVENT
DTSTART;TZID=America/New_York:20260623T083000
DTEND;TZID=America/New_York:20260624T163000
DTSTAMP:20260421T042311
CREATED:20260217T214645Z
LAST-MODIFIED:20260217T214646Z
UID:68131-1782203400-1782318600@www.cadimensions.com
SUMMARY:Sheet Metal Online - June
DESCRIPTION:Length: 2 daysDates: 6/23 - 6/24Cost: $1295.00Recommended Experience Level: SOLIDWORKS EssentialsCourse Description:Sheet Metal teaches you how to build sheet metal parts in SOLIDWORKS mechanical design automation software. Building standalone sheet metal parts\, and converting conventional parts to sheet metal\, including in assembly context\, are covered.Lesson Plan \n\n\n\nThis course covers topics in SOLIDWORKS certifications such as CSWE – Mechanical Design and CSWPA – Sheet Metal
URL:https://www.cadimensions.com/events/sheet-metal-online-june-2026/
LOCATION:Online\, United States
CATEGORIES:Basic SOLIDWORKS Courses
ATTACH;FMTTYPE=image/jpeg:https://www.cadimensions.com/wp-content/uploads/2018/08/Sheet-Metal.jpg
END:VEVENT
END:VCALENDAR