BEGIN:VCALENDAR
VERSION:2.0
PRODID:-//CADimensions - ECPv6.15.12.2//NONSGML v1.0//EN
CALSCALE:GREGORIAN
METHOD:PUBLISH
X-WR-CALNAME:CADimensions
X-ORIGINAL-URL:https://www.cadimensions.com
X-WR-CALDESC:Events for CADimensions
REFRESH-INTERVAL;VALUE=DURATION:PT1H
X-Robots-Tag:noindex
X-PUBLISHED-TTL:PT1H
BEGIN:VTIMEZONE
TZID:America/New_York
BEGIN:DAYLIGHT
TZOFFSETFROM:-0500
TZOFFSETTO:-0400
TZNAME:EDT
DTSTART:20250309T070000
END:DAYLIGHT
BEGIN:STANDARD
TZOFFSETFROM:-0400
TZOFFSETTO:-0500
TZNAME:EST
DTSTART:20251102T060000
END:STANDARD
BEGIN:DAYLIGHT
TZOFFSETFROM:-0500
TZOFFSETTO:-0400
TZNAME:EDT
DTSTART:20260308T070000
END:DAYLIGHT
BEGIN:STANDARD
TZOFFSETFROM:-0400
TZOFFSETTO:-0500
TZNAME:EST
DTSTART:20261101T060000
END:STANDARD
BEGIN:DAYLIGHT
TZOFFSETFROM:-0500
TZOFFSETTO:-0400
TZNAME:EDT
DTSTART:20270314T070000
END:DAYLIGHT
BEGIN:STANDARD
TZOFFSETFROM:-0400
TZOFFSETTO:-0500
TZNAME:EST
DTSTART:20271107T060000
END:STANDARD
END:VTIMEZONE
BEGIN:VEVENT
DTSTART;TZID=America/New_York:20260420T083000
DTEND;TZID=America/New_York:20260422T163000
DTSTAMP:20260421T045710
CREATED:20260209T201030Z
LAST-MODIFIED:20260409T150743Z
UID:68099-1776673800-1776875400@www.cadimensions.com
SUMMARY:SOLIDWORKS Drawings Online - April
DESCRIPTION:Length: 3 daysDates: 4/20 - 4/22Cost: $1495.00Recommended Experience Level: SOLIDWORKS EssentialsCourse Description:SOLIDWORKS Drawings teaches you how to make drawings of SOLIDWORKS parts and assemblies. This course is designed for users working in drawings and does not cover 3D model making.Lesson Plan \n\n\n\nThis course covers topics in CSWP – Mechanical Design and CSWE – Mechanical Design certifications through SOLIDWORKS. \n\n\n\nThere are two versions of this class\, ANSI and ISO. By default\, we teach ANSI\, but will teach ISO upon request.
URL:https://www.cadimensions.com/events/solidworks-drawings-online-april-2026/
LOCATION:Online\, United States
CATEGORIES:Basic SOLIDWORKS Courses
ATTACH;FMTTYPE=image/jpeg:https://www.cadimensions.com/wp-content/uploads/2018/08/solidworks-drawings.jpg
END:VEVENT
END:VCALENDAR